BEGIN:VCALENDAR
VERSION:2.0
PRODID:-//Dorpskerk Opperdoes - ECPv6.15.18//NONSGML v1.0//EN
CALSCALE:GREGORIAN
METHOD:PUBLISH
X-WR-CALNAME:Dorpskerk Opperdoes
X-ORIGINAL-URL:https://dorpskerkopperdoes.nl
X-WR-CALDESC:Evenementen voor Dorpskerk Opperdoes
REFRESH-INTERVAL;VALUE=DURATION:PT1H
X-Robots-Tag:noindex
X-PUBLISHED-TTL:PT1H
BEGIN:VTIMEZONE
TZID:UTC
BEGIN:STANDARD
TZOFFSETFROM:+0000
TZOFFSETTO:+0000
TZNAME:UTC
DTSTART:20250101T000000
END:STANDARD
END:VTIMEZONE
BEGIN:VEVENT
DTSTART;TZID=UTC:20260316T070000
DTEND;TZID=UTC:20260508T160000
DTSTAMP:20260420T131017
CREATED:20260312T142414Z
LAST-MODIFIED:20260312T142745Z
UID:672-1773644400-1778256000@dorpskerkopperdoes.nl
SUMMARY:Restauratie Dorpskerk van 16-03 t/m 08-05 '26
DESCRIPTION:Van week 12 (maandag 16 maart) tot en met week 19 (vrijdag 08 mei) 2026 wordt Dorpskerk Opperdoes gerestaureerd. In deze periode vinden er werkzaamheden plaats om het gebouw te onderhouden en te behouden voor de toekomst.\nDe restauratie is bedoeld om de kerk in goede staat te houden\, zodat dit bijzondere en karakteristieke gebouw ook de komende jaren een belangrijke plek in het dorp kan blijven innemen. Tijdens de werkzaamheden kan er in en rondom de kerk tijdelijk wat extra activiteit zijn door de aanwezigheid van vakmensen en materialen.\nWij hopen op begrip van dorpsgenoten en bezoekers tijdens deze periode. Met deze werkzaamheden zorgen we er samen voor dat Dorpskerk Opperdoes weer mooi en verzorgd de toekomst tegemoet kan gaan.
URL:https://dorpskerkopperdoes.nl/evenement/restauratie-dorpskerk/
LOCATION:Dorpskerk\, Kerkebuurt 16\, Opperdoes\, Noord-Holland\, 1674 ND\, Netherlands
CATEGORIES:Onderhoud gebouwen,Restauratiewerkzaamheden
ORGANIZER;CN="Stichting Dorpskerk van Opperdoes en Almersdorp":MAILTO:info@dorpskerkopperdoes.nl
END:VEVENT
BEGIN:VEVENT
DTSTART;TZID=UTC:20260427T130000
DTEND;TZID=UTC:20260427T180000
DTSTAMP:20260420T131017
CREATED:20260312T135838Z
LAST-MODIFIED:20260312T135838Z
UID:659-1777294800-1777312800@dorpskerkopperdoes.nl
SUMMARY:Twee zussen\, één creatieve passie (mini expositie)
DESCRIPTION:Els en Ria zijn twee zussen die een grote liefde delen voor creativiteit en voor alles wat de natuur te bieden heeft. In hun vrije tijd maken zij met veel plezier allerlei decoraties en kunstwerkjes\, waarbij natuurlijke materialen een belangrijke rol spelen.\nEls werkt graag met materialen die zij in de natuur vindt\, zoals schelpen\, stenen en hout. Van deze eenvoudige vondsten maakt zij bijzondere en sfeervolle creaties. Ria maakt decoraties van gezaagde boomstammen en verzorgt daarnaast prachtige dieptelijstjes met gipsfiguren. Samen werken ze ook graag met klei\, en vinden ze veel plezier in tekenen en schilderen. \nOp 27 april en 2 mei organiseren de zussen een minitentoonstelling\, waar een selectie van hun werk te zien is. Bezoekers kunnen daar hun verschillende technieken en materialen ontdekken en inspiratie opdoen uit de natuur. \nIedereen die van handgemaakt\, creatief werk en natuurlijke materialen houdt\, is van harte welkom om een kijkje te komen nemen.\n27 april van 13.00 tot 18.00 uur
URL:https://dorpskerkopperdoes.nl/evenement/twee-zussen-een-creatieve-passie-mini-expositie/
LOCATION:Dorpskerk\, Kerkebuurt 16\, Opperdoes\, Noord-Holland\, 1674 ND\, Netherlands
CATEGORIES:Bezichtiging,expositie,tentoonstelling,terras open
ORGANIZER;CN="Stichting Dorpskerk van Opperdoes en Almersdorp":MAILTO:info@dorpskerkopperdoes.nl
END:VEVENT
BEGIN:VEVENT
DTSTART;TZID=UTC:20260427T130000
DTEND;TZID=UTC:20260427T180000
DTSTAMP:20260420T131017
CREATED:20260312T143507Z
LAST-MODIFIED:20260312T143726Z
UID:677-1777294800-1777312800@dorpskerkopperdoes.nl
SUMMARY:Lentegevoel\, handgemaakt comfort (diverse sokken)
DESCRIPTION:De dagen worden langer\, maar frisse ochtenden en koele avonden blijven. Precies het moment voor comfort met een lichte touch. In onze collectie vind je handgebreide sokken én fijne polswarmers – ideaal voor het voorjaar. Ze houden je polsen warm terwijl je vingers vrij blijven: perfect voor binnen\, tijdens een wandeling of bij het eerste terrasbezoek.\nNaast onze vertrouwde sokken hebben we ook kortere sneaker-sokken van zachte merinowol: luchtig\, ademend en comfortabel\, precies goed voor het tussenseizoen.\nAlle sokken en polswarmers zijn met liefde handgebreid en elk paar is uniek in kleur en patroon. Verkrijgbaar in diverse maten en materialen zoals merino\, alpaca en combinaties met katoen\, cashmere of zijde. \nEn speciaal voor Koningsdag hebben we iets extra feestelijks: knaloranje handgebreide sokken. Een vrolijk en warm accent voor deze feestdag – perfect om in stijl Koningsdag te vieren. \nKom de sokken gerust bekijken tijdens onze minitentoonstelling\nop 27 april en 2 mei. \nOverige data verkrijgbaar bij:\nFijtje Groot-Portengen\nOosteinde 2\, Opperdoes \nMet je aankoop steun je de Dorpskerk van Opperdoes; de volledige opbrengst komt ten goede aan het behoud van dit bijzondere gebouw. \nOp = op\, dus kom langs en ga comfortabel het voorjaar in!
URL:https://dorpskerkopperdoes.nl/evenement/lentegevoel-handgemaakt-comfort/
LOCATION:Dorpskerk\, Kerkebuurt 16\, Opperdoes\, Noord-Holland\, 1674 ND\, Netherlands
CATEGORIES:Bezichtiging,expositie,kerk open,Verkoop handgemaakte sokken
ORGANIZER;CN="Stichting Dorpskerk van Opperdoes en Almersdorp":MAILTO:info@dorpskerkopperdoes.nl
END:VEVENT
END:VCALENDAR