BEGIN:VCALENDAR
VERSION:2.0
PRODID:-//Dorpskerk Opperdoes - ECPv6.15.18//NONSGML v1.0//EN
CALSCALE:GREGORIAN
METHOD:PUBLISH
X-ORIGINAL-URL:https://dorpskerkopperdoes.nl
X-WR-CALDESC:Evenementen voor Dorpskerk Opperdoes
REFRESH-INTERVAL;VALUE=DURATION:PT1H
X-Robots-Tag:noindex
X-PUBLISHED-TTL:PT1H
BEGIN:VTIMEZONE
TZID:UTC
BEGIN:STANDARD
TZOFFSETFROM:+0000
TZOFFSETTO:+0000
TZNAME:UTC
DTSTART:20240101T000000
END:STANDARD
END:VTIMEZONE
BEGIN:VEVENT
DTSTART;TZID=UTC:20250913T130000
DTEND;TZID=UTC:20250913T170000
DTSTAMP:20260420T165834
CREATED:20250717T192823Z
LAST-MODIFIED:20250717T194820Z
UID:594-1757768400-1757782800@dorpskerkopperdoes.nl
SUMMARY:Open Monumentendag 2025  | Terras open
DESCRIPTION:Thema: ‘Erfgoed & Architectuur’ –  Gebouw(d) om te blijven\nPrecies 50 jaar geleden werd 1975 uitgeroepen tot het Europese Jaar van het Architectonisch Erfgoed. Daarmee begon een periode waarin historische gebouwen niet alleen bewonderd\, maar ook actief behouden werden.  Tijdens deze bijzondere jubileumeditie staan we stil bij de waarde van ons architectonisch erfgoed – en hoe dit erfgoed ons nog steeds inspireert. \nDe Dorpskerk is daar een prachtig voorbeeld van. Met haar karakteristieke silhouet\, rijke geschiedenis en warme uitstraling is het gebouw al eeuwenlang een baken in ons dorp. Een plek van samenkomst\, herinnering en verbondenheid – letterlijk gebouwd om te blijven.\nIedereen is van harte welkom om binnen te lopen\, het gebouw te bewonderen en meer te leren over de geschiedenis\, bouwstijl en betekenis van de Dorpskerk. \nKom kijken en laat je inspireren door de kracht van erfgoed en architectuur! \nOnderdeel van Open Monumentendag 2025. De toegang is gratis.
URL:https://dorpskerkopperdoes.nl/evenement/594/
LOCATION:Dorpskerk\, Kerkebuurt 16\, Opperdoes\, Noord-Holland\, 1674 ND\, Netherlands
CATEGORIES:Bezichtiging,expositie,kerk open,Open Monumentendag,tentoonstelling,terras open
ORGANIZER;CN="Stichting Dorpskerk van Opperdoes en Almersdorp":MAILTO:info@dorpskerkopperdoes.nl
END:VEVENT
END:VCALENDAR