BEGIN:VCALENDAR
VERSION:2.0
PRODID:-//Dorpskerk Opperdoes - ECPv6.15.18//NONSGML v1.0//EN
CALSCALE:GREGORIAN
METHOD:PUBLISH
X-WR-CALNAME:Dorpskerk Opperdoes
X-ORIGINAL-URL:https://dorpskerkopperdoes.nl
X-WR-CALDESC:Evenementen voor Dorpskerk Opperdoes
REFRESH-INTERVAL;VALUE=DURATION:PT1H
X-Robots-Tag:noindex
X-PUBLISHED-TTL:PT1H
BEGIN:VTIMEZONE
TZID:UTC
BEGIN:STANDARD
TZOFFSETFROM:+0000
TZOFFSETTO:+0000
TZNAME:UTC
DTSTART:20240101T000000
END:STANDARD
END:VTIMEZONE
BEGIN:VEVENT
DTSTART;TZID=UTC:20250503T140000
DTEND;TZID=UTC:20250503T170000
DTSTAMP:20260421T023912
CREATED:20250226T194416Z
LAST-MODIFIED:20250226T201539Z
UID:360-1746280800-1746291600@dorpskerkopperdoes.nl
SUMMARY:3 inloopconcerten door Muziekvereniging TAVENU
DESCRIPTION:Loop gezellig binnen bij de concerten van Muziekvereniging TAVENU. \nDe concerten vangen aan om \n14.00 uur\n15.00 uur\n16.00 uur\nDe toegang is gratis!
URL:https://dorpskerkopperdoes.nl/evenement/inloopconcert-tavenu/
LOCATION:Dorpskerk\, Kerkebuurt 16\, Opperdoes\, Noord-Holland\, 1674 ND\, Netherlands
CATEGORIES:concert,kerk open,tavenu
ATTACH;FMTTYPE=image/png:https://dorpskerkopperdoes.nl/wp-content/uploads/2025/02/Schermafbeelding-2025-02-26-205631-e1740600066258.png
ORGANIZER;CN="Stichting Dorpskerk van Opperdoes en Almersdorp":MAILTO:info@dorpskerkopperdoes.nl
END:VEVENT
BEGIN:VEVENT
DTSTART;TZID=UTC:20250427T150000
DTEND;TZID=UTC:20250427T173000
DTSTAMP:20260421T023912
CREATED:20250226T183325Z
LAST-MODIFIED:20250226T185017Z
UID:356-1745766000-1745775000@dorpskerkopperdoes.nl
SUMMARY:Koninklijke High Tea
DESCRIPTION:Nog een keer genieten van Pronkjewail!\nOp zondag 27 april opent de prachtige Dorpskerk van Opperdoes en Almersdorp haar deuren voor een bijzondere en sfeervolle middag: een Koninklijke High Tea. Dit is een unieke kans om nog een keer te genieten van de heerlijke lekkernijen van de voormalige theetuin Pronkjewail\, die jarenlang een geliefde plek was voor theeliefhebbers. \nDe monumentale Dorpskerk\, met haar historische charme en warme ambiance\, vormt het perfecte decor voor deze speciale gelegenheid. Terwijl u zich tegoed doet aan een selectie van ambachtelijke\, zoete en hartige hapjes en verschillende theesoorten\, kunt u genieten van de unieke sfeer van dit karakteristieke kerkgebouw. De combinatie van historie\, gastvrijheid en smaakvolle verwennerij belooft een middag te worden om niet te vergeten. \nOf u nu herinneringen wilt ophalen aan de gezellige middagen bij theetuin Pronkjewail\, of gewoon zin heeft in een stijlvolle en smakelijke beleving op een bijzondere locatie\, deze high tea is een gelegenheid die u niet wilt missen! \n\n \n\n\n\n\n\nVoornaam *\n\n\nAchternaam *\n\n\n\n\n\n\nE-mailadres *\n\n\n\n\nTelefoonnummer *\n\n\n\n\n\n\nAdres\n\n\n\n\nWoonplaats\n\n\n\n\nPostcode\n\n\n\n\n\n\nAantal personen12345678910\n\n\n\n\nTotaal te betalen bij entree \n€voor het totaal aantal personen van deze reservering\n\n\n\n\n\n\n \n\n \n\n\nBericht verzenden
URL:https://dorpskerkopperdoes.nl/evenement/koninklijke-high-tea/
LOCATION:Dorpskerk\, Kerkebuurt 16\, Opperdoes\, Noord-Holland\, 1674 ND\, Netherlands
CATEGORIES:eten & drinken,High Tea
ATTACH;FMTTYPE=image/jpeg:https://dorpskerkopperdoes.nl/wp-content/uploads/2025/02/old-country-roses-5946660_1280-e1740595746152.jpg
ORGANIZER;CN="Stichting Dorpskerk van Opperdoes en Almersdorp":MAILTO:info@dorpskerkopperdoes.nl
END:VEVENT
BEGIN:VEVENT
DTSTART;TZID=UTC:20250426T100000
DTEND;TZID=UTC:20250505T170000
DTSTAMP:20260421T023912
CREATED:20250226T155206Z
LAST-MODIFIED:20250226T161648Z
UID:343-1745661600-1746464400@dorpskerkopperdoes.nl
SUMMARY:Expositie schilderijen van Arie Reurekas
DESCRIPTION:Arie Reurekas (1956)\nVan predikant tot kunstschilder\n\n\n\nNa ruim 30 jaar predikant en docent middelbaar onderwijs\, krijgt hij in 2008 een herseninfarct\, waardoor hij helaas geen les meer kan en mag geven. In de beginmaanden kan hij amper praten en loopt hij zeer moeilijk met een ‘zwabberend’ rechterbeen. Zijn leven verandert als een blad aan een boom. Om tijdens zijn revalidaties een vorm van ontspanning te vinden\, gaat hij met zijn middelste dochter op schilderles bij zijn oudste zuster\, die schilderes is. Samen met zijn dochter pakt hij deze creatieve vorm aan om aan zijn herstel te werken.  Begin 2009 neemt gaan zij alle drie op les bij kunstschilder Berry Kuiper. Arie ontwikkelt zich met name in de vormen schilderachtig en realisme. \n\n\n\n\n\nEen nieuwe roeping\n\n\n\n\n\nInmiddels heeft hij contacten met de kunstenaars in zijn woongemeente en heeft hij diverse opdrachten vervuld. Zijn theologische achtergrond maakt dat hij zich ook meer is gaan verdiepen in Bijbelse taferelen en Bijbelse symboliek. \nDe laatste jaren richt hij zich met name op realisme. Hij schildert gewoon wat hij wil\, alhoewel hij ook enige opdrachten maakt. De invloed van kunstschilder Kuiper blijft merkbaar in zijn werken. Er volgt een lange reeks van exposities door heel het land (zie de cv van Arie) en hij sluit zich aan bij diverse kunstroutes. Onder invloed van zijn vriend\, kunstenaar Ad van Hassel richt Arie zich op een tweede lijn\, die Arie ‘Figuratief-Abstract’ noemt. \nDit maakt zijn werkterrein wel breder en met name de ontdekking hiervan bij de jongere generaties geven een soort 2e beeld van Arie. Alhoewel verschillende participanten van de kunstroutes dit ‘not done’ vinden\, trekt Arie zich er niets van aan en schildert er lustig op los. Hij werkt het liefst aan realistische werken\, want hij heeft van zijn leermeester over genomen dat hij niet ‘op doek’ werkt\, maar ‘op paneel’. Zoon Michaël ‘componeert’ om de panelen heen\, want zonder een lijst ‘poremt’ het niet.
URL:https://dorpskerkopperdoes.nl/evenement/expositie-schilderijen-van-arie-reurekas/
LOCATION:Dorpskerk\, Kerkebuurt 16\, Opperdoes\, Noord-Holland\, 1674 ND\, Netherlands
CATEGORIES:expositie
ATTACH;FMTTYPE=image/jpeg:https://dorpskerkopperdoes.nl/wp-content/uploads/2025/02/banner-arie-reurekas-1-e1740586441340.jpg
ORGANIZER;CN="Stichting Dorpskerk van Opperdoes en Almersdorp":MAILTO:info@dorpskerkopperdoes.nl
END:VEVENT
BEGIN:VEVENT
DTSTART;VALUE=DATE:20250426
DTEND;VALUE=DATE:20250506
DTSTAMP:20260421T023912
CREATED:20250226T163429Z
LAST-MODIFIED:20250226T181531Z
UID:352-1745625600-1746489599@dorpskerkopperdoes.nl
SUMMARY:Zandsculpturen rond de Dorpskerk
DESCRIPTION:Tijdens de feestweek willen we rondom de Dorpskerk indrukwekkende zandsculpturen plaatsen met als thema vrede en vrijheid. Deze kunstwerken zullen een prachtige blikvanger zijn en bijdragen aan de bijzondere sfeer van de feestweek. \nHoewel we subsidies hebben aangevraagd\, is het nog onzeker of deze toereikend zullen zijn. Daarom zoeken we sponsoren die willen helpen om deze droom werkelijkheid te maken.\nAls sponsor kunt u een zandsculptuur ondersteunen\, en in ruil daarvoor wordt uw naam vermeld op de sokkel van het kunstwerk. Zo draagt u niet alleen bij aan een uniek project\, maar krijgt u ook zichtbare erkenning tijdens deze bijzondere week. \nSamen maken we van de feestweek een onvergetelijke viering van vrede en vrijheid!  \n\n \n\n\n\n\nSponsor een zandsculptuur!\nWil je een zandsculptuur sponsoren? Alleen\, of samen met familie\, vrienden\, buren\, collega's of met je club of vereniging? Vul onderstaande gegevens in\, dan nemen wij binnenkort contact met je op\n\n\n\n\n\n\n\nVoornaam *\n\n\nAchternaam *\n\n\n\n\n\n\nHoe mogen wij contact met je opnemen?TelefonischPer e-mailAllebei prima\n\n\n\n\nTelefoonnummer *\n\n\n\n\nE-mailadres *\n\n\n\n\n\n \n\n \n\n\nBericht verzenden
URL:https://dorpskerkopperdoes.nl/evenement/zandsculpturen-rond-de-dorpskerk/
LOCATION:Dorpskerk\, Kerkebuurt 16\, Opperdoes\, Noord-Holland\, 1674 ND\, Netherlands
ATTACH;FMTTYPE=image/jpeg:https://dorpskerkopperdoes.nl/wp-content/uploads/2025/02/sandburg-1639999_1280-e1740587588878.jpg
ORGANIZER;CN="Stichting Dorpskerk van Opperdoes en Almersdorp":MAILTO:info@dorpskerkopperdoes.nl
END:VEVENT
BEGIN:VEVENT
DTSTART;VALUE=DATE:20250315
DTEND;VALUE=DATE:20250316
DTSTAMP:20260421T023912
CREATED:20250226T140118Z
LAST-MODIFIED:20250226T140118Z
UID:337-1741996800-1742083199@dorpskerkopperdoes.nl
SUMMARY:NL-doet: Bankje Kerkeboetje mozaïeken
DESCRIPTION:Fantastisch nieuws! Alle plekken voor NL-doet zijn inmiddels gevuld!\nOp 15 maart gaan we samen een prachtig mozaïekbankje maken voor in het Kerkeboetje. Het wordt een gezellige en creatieve dag\, waarbij we met een enthousiaste groep vrijwilligers een sfeervolle ontmoetingsplek realiseren in ons dorp. \nDank aan iedereen die zich heeft aangemeld! We kijken ernaar uit om er samen een mooie dag van te maken. \n 
URL:https://dorpskerkopperdoes.nl/evenement/nl-doet-bankje-kerkeboetje-mozaieken/
LOCATION:Dorpskerk\, Kerkebuurt 16\, Opperdoes\, Noord-Holland\, 1674 ND\, Netherlands
ATTACH;FMTTYPE=image/jpeg:https://dorpskerkopperdoes.nl/wp-content/uploads/2025/02/mosaic-3394375_1280-e1740267597458.jpg
ORGANIZER;CN="Stichting Dorpskerk van Opperdoes en Almersdorp":MAILTO:info@dorpskerkopperdoes.nl
END:VEVENT
END:VCALENDAR