BEGIN:VCALENDAR
VERSION:2.0
PRODID:-//Dorpskerk Opperdoes - ECPv6.15.18//NONSGML v1.0//EN
CALSCALE:GREGORIAN
METHOD:PUBLISH
X-WR-CALNAME:Dorpskerk Opperdoes
X-ORIGINAL-URL:https://dorpskerkopperdoes.nl
X-WR-CALDESC:Evenementen voor Dorpskerk Opperdoes
REFRESH-INTERVAL;VALUE=DURATION:PT1H
X-Robots-Tag:noindex
X-PUBLISHED-TTL:PT1H
BEGIN:VTIMEZONE
TZID:UTC
BEGIN:STANDARD
TZOFFSETFROM:+0000
TZOFFSETTO:+0000
TZNAME:UTC
DTSTART:20240101T000000
END:STANDARD
END:VTIMEZONE
BEGIN:VEVENT
DTSTART;TZID=UTC:20250802T130000
DTEND;TZID=UTC:20250802T170000
DTSTAMP:20260421T021924
CREATED:20250718T115754Z
LAST-MODIFIED:20250718T115754Z
UID:612-1754139600-1754154000@dorpskerkopperdoes.nl
SUMMARY:Zomerexpositie: beelden van leden van Atelier6 Heerhugowaard | Terras open
DESCRIPTION:Zomerexpositie\nVan zaterdag 28 juni tot en met zaterdag 9 augustus is iedereen weer van harte welkom in de Dorpskerk van Opperdoes voor de jaarlijkse zomerexpositie. Elke zaterdagmiddag van 13.00 tot 17.00 uur openen de deuren voor kunstliefhebbers en nieuwsgierige bezoekers. \nDe aftrap: Atelier 6\nDe expositie trapt af met een bijzondere verzameling geabstraheerde beelden\, gemaakt door vier bevlogen beeldhouwers: Gerda\, Karin\, Wilma en Nelleke. Zij leerden elkaar kennen tijdens lessen bij Henny Mazurel en werken sinds vorig jaar samen in Atelier 6 in Heerhugowaard. Daar blijven ze elkaar motiveren en uitdagen in hun creatieve proces. \nDiverse soorten steen\nDe beelden zijn gemaakt van onder andere speksteen\, serpentijn en albast en tonen een prachtig spel van vormen\, lijnen en structuren – elk werk met een eigen karakter. Deze gezamenlijke expositie is een primeur voor het viertal.\nDe toegang is gratis.
URL:https://dorpskerkopperdoes.nl/evenement/zomerexpositie-beelden-van-leden-van-atelier6-heerhugowaard-terras-open/
LOCATION:Dorpskerk\, Kerkebuurt 16\, Opperdoes\, Noord-Holland\, 1674 ND\, Netherlands
CATEGORIES:Bezichtiging,expositie,kerk open,tentoonstelling,terras open
ORGANIZER;CN="Stichting Dorpskerk van Opperdoes en Almersdorp":MAILTO:info@dorpskerkopperdoes.nl
END:VEVENT
BEGIN:VEVENT
DTSTART;TZID=UTC:20250809T130000
DTEND;TZID=UTC:20250809T170000
DTSTAMP:20260421T021924
CREATED:20250717T172208Z
LAST-MODIFIED:20250717T194433Z
UID:562-1754744400-1754758800@dorpskerkopperdoes.nl
SUMMARY:Zomerexpositie: beelden van leden van Atelier6 Heerhugowaard - Laatste dag | Terras open
DESCRIPTION:Zomerexpositie\nVan zaterdag 28 juni tot en met zaterdag 9 augustus is iedereen weer van harte welkom in de Dorpskerk van Opperdoes voor de jaarlijkse zomerexpositie. Elke zaterdagmiddag van 13.00 tot 17.00 uur openen de deuren voor kunstliefhebbers en nieuwsgierige bezoekers. \nDe aftrap: Atelier 6\nDe expositie trapt af met een bijzondere verzameling geabstraheerde beelden\, gemaakt door vier bevlogen beeldhouwers: Gerda\, Karin\, Wilma en Nelleke. Zij leerden elkaar kennen tijdens lessen bij Henny Mazurel en werken sinds vorig jaar samen in Atelier 6 in Heerhugowaard. Daar blijven ze elkaar motiveren en uitdagen in hun creatieve proces. \nDiverse soorten steen\nDe beelden zijn gemaakt van onder andere speksteen\, serpentijn en albast en tonen een prachtig spel van vormen\, lijnen en structuren – elk werk met een eigen karakter. Deze gezamenlijke expositie is een primeur voor het viertal.\nDe toegang is gratis.
URL:https://dorpskerkopperdoes.nl/evenement/zomerexpositie-beelden-van-leden-van-atelier6-heerhugowaard-laatste-dag/
LOCATION:Dorpskerk\, Kerkebuurt 16\, Opperdoes\, Noord-Holland\, 1674 ND\, Netherlands
CATEGORIES:Bezichtiging,expositie,kerk open,tentoonstelling
ORGANIZER;CN="Stichting Dorpskerk van Opperdoes en Almersdorp":MAILTO:info@dorpskerkopperdoes.nl
END:VEVENT
BEGIN:VEVENT
DTSTART;TZID=UTC:20250816T130000
DTEND;TZID=UTC:20250816T170000
DTSTAMP:20260421T021924
CREATED:20250717T174054Z
LAST-MODIFIED:20250717T194500Z
UID:564-1755349200-1755363600@dorpskerkopperdoes.nl
SUMMARY:Zomerexpositie: Keramiekgroep Emmie de Wijk | Terras open
DESCRIPTION:Expositie keramiek \nVan 16 augustus tot en met 27 september is er een expositie van Emmie de Wijk en enkele leden van haar keramiek groep. In haar atelier Keremmiek aan de Kluiten begeleidt ze kleine groepen bij het creëren en glazuren van hun eigen werkstukken. \nBeeld: aangeleverd\nDeze worden veelal afgebakken volgens de raku techniek. Dit is een methode waarbij de stukken buiten in een oven worden gestookt en nog gloeiend heet met tangen eruit gehaald worden om vervolgens in tonnen met kranten en zaagsel verder te branden. Een proces dat leidt tot unieke resultaten.De combinatie van glanzend en mat \ncraqueléglazuur\, de werking van vuur\, water en klei\, en het buiten samen bezig zijn\, maken raku tot een fascinerende en feestelijke ervaring.\nMet de natuur als inspiratie. Schalen\, vazen\, urnen\, vogels\, bloemen en vruchten. Het werk is heel divers. Elk stuk ontstaat uit liefde voor het materiaal en verwondering over de vormen en kleuren om ons heen. De toegang is gratis.
URL:https://dorpskerkopperdoes.nl/evenement/zomerexpositie-keramiekgroep-emmie-de-wijk/
LOCATION:Dorpskerk\, Kerkebuurt 16\, Opperdoes\, Noord-Holland\, 1674 ND\, Netherlands
CATEGORIES:Bezichtiging,expositie,kerk open,terras open
ORGANIZER;CN="Stichting Dorpskerk van Opperdoes en Almersdorp":MAILTO:info@dorpskerkopperdoes.nl
END:VEVENT
BEGIN:VEVENT
DTSTART;TZID=UTC:20250823T130000
DTEND;TZID=UTC:20250823T170000
DTSTAMP:20260421T021924
CREATED:20250717T174308Z
LAST-MODIFIED:20250717T194514Z
UID:567-1755954000-1755968400@dorpskerkopperdoes.nl
SUMMARY:Zomerexpositie: Keramiekgroep Emmie de Wijk | Terras open
DESCRIPTION:Expositie keramiek \nVan 16 augustus tot en met 27 september is er een expositie van Emmie de Wijk en enkele leden van haar keramiek groep. In haar atelier Keremmiek aan de Kluiten begeleidt ze kleine groepen bij het creëren en glazuren van hun eigen werkstukken. \nBeeld: aangeleverd\nDeze worden veelal afgebakken volgens de raku techniek. Dit is een methode waarbij de stukken buiten in een oven worden gestookt en nog gloeiend heet met tangen eruit gehaald worden om vervolgens in tonnen met kranten en zaagsel verder te branden. Een proces dat leidt tot unieke resultaten.De combinatie van glanzend en mat \ncraqueléglazuur\, de werking van vuur\, water en klei\, en het buiten samen bezig zijn\, maken raku tot een fascinerende en feestelijke ervaring.\nMet de natuur als inspiratie. Schalen\, vazen\, urnen\, vogels\, bloemen en vruchten. Het werk is heel divers. Elk stuk ontstaat uit liefde voor het materiaal en verwondering over de vormen en kleuren om ons heen. De toegang is gratis.
URL:https://dorpskerkopperdoes.nl/evenement/zomerexpositie-keramiekgroep-emmie-de-wijk-2/
LOCATION:Dorpskerk\, Kerkebuurt 16\, Opperdoes\, Noord-Holland\, 1674 ND\, Netherlands
CATEGORIES:Bezichtiging,expositie,kerk open,terras open
ORGANIZER;CN="Stichting Dorpskerk van Opperdoes en Almersdorp":MAILTO:info@dorpskerkopperdoes.nl
END:VEVENT
BEGIN:VEVENT
DTSTART;TZID=UTC:20250830T130000
DTEND;TZID=UTC:20250830T170000
DTSTAMP:20260421T021924
CREATED:20250717T182611Z
LAST-MODIFIED:20250717T194529Z
UID:569-1756558800-1756573200@dorpskerkopperdoes.nl
SUMMARY:Zomerexpositie: Keramiekgroep Emmie de Wijk | Terras open
DESCRIPTION:Expositie keramiek \nVan 16 augustus tot en met 27 september is er een expositie van Emmie de Wijk en enkele leden van haar keramiek groep. In haar atelier Keremmiek aan de Kluiten begeleidt ze kleine groepen bij het creëren en glazuren van hun eigen werkstukken. \nBeeld: aangeleverd\nDeze worden veelal afgebakken volgens de raku techniek. Dit is een methode waarbij de stukken buiten in een oven worden gestookt en nog gloeiend heet met tangen eruit gehaald worden om vervolgens in tonnen met kranten en zaagsel verder te branden. Een proces dat leidt tot unieke resultaten.De combinatie van glanzend en mat \ncraqueléglazuur\, de werking van vuur\, water en klei\, en het buiten samen bezig zijn\, maken raku tot een fascinerende en feestelijke ervaring.\nMet de natuur als inspiratie. Schalen\, vazen\, urnen\, vogels\, bloemen en vruchten. Het werk is heel divers. Elk stuk ontstaat uit liefde voor het materiaal en verwondering over de vormen en kleuren om ons heen. De toegang is gratis.
URL:https://dorpskerkopperdoes.nl/evenement/zomerexpositie-keramiekgroep-emmie-de-wijk-3/
LOCATION:Dorpskerk\, Kerkebuurt 16\, Opperdoes\, Noord-Holland\, 1674 ND\, Netherlands
CATEGORIES:Bezichtiging,expositie,kerk open,tentoonstelling,terras open
ORGANIZER;CN="Stichting Dorpskerk van Opperdoes en Almersdorp":MAILTO:info@dorpskerkopperdoes.nl
END:VEVENT
BEGIN:VEVENT
DTSTART;TZID=UTC:20250830T130000
DTEND;TZID=UTC:20250830T170000
DTSTAMP:20260421T021924
CREATED:20250717T183758Z
LAST-MODIFIED:20250717T194547Z
UID:571-1756558800-1756573200@dorpskerkopperdoes.nl
SUMMARY:Dorpskerk Crea | Terras open
DESCRIPTION:Op zaterdag 30 augustus verandert de Dorpskerk in een inspirerende ontmoetingsplek voor iedereen die houdt van creativiteit\, ambacht en kunstzinnige expressie. Tijdens Dorpskerk Crea laten een aantal creatieve mensen zien wat zij maken – en dat is bijzonder de moeite waard! \nKom binnenlopen en maak kennis met verschillende creatieve technieken en prachtige handgemaakte werken. \nBeeld: aangeleverd\nDeelnemers op dit moment bekend zijn: \n\nPlien Brouwer\, die op verfijnde wijze vogelveren beschildert\nRita van Loon\, met haar indrukwekkende combinatie van fotografie en poëzie: fotogedichten\nSimone Wijdenes\, zij demonstreert kantklossen en haken\nNicolette Veenman\, bekend om haar kleurrijke en precieze stipwerk op porselein\nBeeld: aangeleverd\n\nKom kijken\, vragen stellen\, inspiratie opdoen of gewoon genieten van al het moois. De toegang is gratis.
URL:https://dorpskerkopperdoes.nl/evenement/dorpskerk-crea/
LOCATION:Dorpskerk\, Kerkebuurt 16\, Opperdoes\, Noord-Holland\, 1674 ND\, Netherlands
ORGANIZER;CN="Stichting Dorpskerk van Opperdoes en Almersdorp":MAILTO:info@dorpskerkopperdoes.nl
END:VEVENT
END:VCALENDAR