BEGIN:VCALENDAR
VERSION:2.0
PRODID:-//Dorpskerk Opperdoes - ECPv6.15.18//NONSGML v1.0//EN
CALSCALE:GREGORIAN
METHOD:PUBLISH
X-ORIGINAL-URL:https://dorpskerkopperdoes.nl
X-WR-CALDESC:Evenementen voor Dorpskerk Opperdoes
REFRESH-INTERVAL;VALUE=DURATION:PT1H
X-Robots-Tag:noindex
X-PUBLISHED-TTL:PT1H
BEGIN:VTIMEZONE
TZID:UTC
BEGIN:STANDARD
TZOFFSETFROM:+0000
TZOFFSETTO:+0000
TZNAME:UTC
DTSTART:20240101T000000
END:STANDARD
END:VTIMEZONE
BEGIN:VEVENT
DTSTART;TZID=UTC:20251221T200000
DTEND;TZID=UTC:20251221T213000
DTSTAMP:20260420T165833
CREATED:20251114T165230Z
LAST-MODIFIED:20251114T182440Z
UID:635-1766347200-1766352600@dorpskerkopperdoes.nl
SUMMARY:Kerstconcert 2025
DESCRIPTION:Goed nieuws: heeft u ook behoefte aan een sfeervolle avond met kerstmuziek?\nAls u op 21 december om 20.00 uur naar Dorpskerk Opperdoes komt kunt u uw hart ophalen. Muzikanten uit Opperdoes en Medemblik hebben een mooi programma samengesteld en willen dat graag laten horen. \nInge Boersma\, Michael de Graaff\, Tonnie Meester\, Rob Bruijn\, Marleen Schipper en Afke Borst\ngaan in verschillende samenstellingen kerstmuziek in allerlei stijlen laten horen.\nNa afloop is er gelegenheid om gezellig na te praten met iets te drinken en wat lekkers erbij. De toegang is vrij\, maar na afloop is een vrijwillige bijdrage voor de onkosten zeer welkom. We zien u graag op 21 december om 20.00 uur in Dorpskerk Opperdoes. \nLet op: toegang is gratis\, reserveren is verplicht! \nReserveer door het onderstaande formulier in te vullen: \n\n  \n 
URL:https://dorpskerkopperdoes.nl/evenement/635/
LOCATION:Dorpskerk\, Kerkebuurt 16\, Opperdoes\, Noord-Holland\, 1674 ND\, Netherlands
CATEGORIES:concert,kerk open,Kerstconcert,Voorstelling
ORGANIZER;CN="Stichting Dorpskerk van Opperdoes en Almersdorp":MAILTO:info@dorpskerkopperdoes.nl
END:VEVENT
END:VCALENDAR